BEGIN:VCALENDAR
VERSION:2.0
PRODID:-//Stonehaven on Vaal - ECPv6.15.20//NONSGML v1.0//EN
CALSCALE:GREGORIAN
METHOD:PUBLISH
X-WR-CALNAME:Stonehaven on Vaal
X-ORIGINAL-URL:https://stonehaven.co.za
X-WR-CALDESC:Events for Stonehaven on Vaal
REFRESH-INTERVAL;VALUE=DURATION:PT1H
X-Robots-Tag:noindex
X-PUBLISHED-TTL:PT1H
BEGIN:VTIMEZONE
TZID:Africa/Johannesburg
BEGIN:STANDARD
TZOFFSETFROM:+0200
TZOFFSETTO:+0200
TZNAME:SAST
DTSTART:20240101T000000
END:STANDARD
END:VTIMEZONE
BEGIN:VEVENT
DTSTART;TZID=Africa/Johannesburg:20251221T180000
DTEND;TZID=Africa/Johannesburg:20251221T200000
DTSTAMP:20260422T200255
CREATED:20251020T184412Z
LAST-MODIFIED:20251020T185021Z
UID:1100-1766340000-1766347200@stonehaven.co.za
SUMMARY:Carols by Candle Light
DESCRIPTION:Carols by Candle Light\nEach year\, we come together with our wonderful Vaal community to celebrate the festive season under the stars. Join us for a heartwarming evening of Carols by Candlelight\, set against the tranquil backdrop of the Vaal River. \nBring your family\, friends\, and picnic blankets\, and enjoy the glow of candles\, the sound of joyful voices\, and the true spirit of Christmas. It’s a magical night filled with music\, laughter\, and togetherness — a Stonehaven tradition loved by all.
URL:https://stonehaven.co.za/event/carols-by-candle-light/
LOCATION:Stonehaven on Vaal\, Rosebush Lane\, Zuurfontein\, Vanderbijlpark\, Gauteng\, 1911\, South Africa
ORGANIZER;CN="Stonehaven on Vaal":MAILTO:info@stonehaven.co.za
END:VEVENT
END:VCALENDAR