BEGIN:VCALENDAR
VERSION:2.0
PRODID:-//Stonehaven on Vaal - ECPv6.15.20//NONSGML v1.0//EN
CALSCALE:GREGORIAN
METHOD:PUBLISH
X-ORIGINAL-URL:https://stonehaven.co.za
X-WR-CALDESC:Events for Stonehaven on Vaal
REFRESH-INTERVAL;VALUE=DURATION:PT1H
X-Robots-Tag:noindex
X-PUBLISHED-TTL:PT1H
BEGIN:VTIMEZONE
TZID:Africa/Johannesburg
BEGIN:STANDARD
TZOFFSETFROM:+0200
TZOFFSETTO:+0200
TZNAME:SAST
DTSTART:20250101T000000
END:STANDARD
END:VTIMEZONE
BEGIN:VEVENT
DTSTART;TZID=Africa/Johannesburg:20260403T080000
DTEND;TZID=Africa/Johannesburg:20260406T170000
DTSTAMP:20260422T010359
CREATED:20260319T142801Z
LAST-MODIFIED:20260319T142801Z
UID:1247-1775203200-1775494800@stonehaven.co.za
SUMMARY:Easter Weekend Family
DESCRIPTION:🐰 Make This Easter One to Remember at Stonehaven on Vaal! 🌸 \nLooking for family fun this Easter weekend? Bring the kids\, bring the grandparents\, and come enjoy a full day of excitement on the banks of the Vaal River. \n🚤 50-Minute River Cruises every hour from 12 midday💰 R160 Adults | R95 Children \nThe little ones will love:🥚 Complimentary Easter Egg Hunts – Friday\, Sunday & Monday at 11:15am🎨 Free Craft Zone for creative fun🍦 Our famous Easter Soft Serve treats🌿 Massive Garden Play Area to run\, explore and play \nAnd while the kids are having fun\, the adults can relax and enjoy breakfast\, lunch or dinner dining with beautiful river views. \nThis is not just lunch out… it’s a full Easter experience for the whole family.
URL:https://stonehaven.co.za/event/easter-weekend-family/
LOCATION:Stonehaven on Vaal\, Rosebush Lane\, Zuurfontein\, Vanderbijlpark\, Gauteng\, 1911\, South Africa
ORGANIZER;CN="Stonehaven on Vaal":MAILTO:info@stonehaven.co.za
END:VEVENT
BEGIN:VEVENT
DTSTART;TZID=Africa/Johannesburg:20260510T083000
DTEND;TZID=Africa/Johannesburg:20260510T170000
DTSTAMP:20260422T010359
CREATED:20260410T142044Z
LAST-MODIFIED:20260410T142044Z
UID:1278-1778401800-1778432400@stonehaven.co.za
SUMMARY:Mother's Day on the Vaal
DESCRIPTION:🌸 Celebrate Mother’s Day on the Vaal at Stonehaven 🌸 \nMake this Mother’s Day truly special with a day filled with beautiful moments\, delicious food and unforgettable river views. \nStart the celebration with a luxury 2-hour Breakfast Cruise\, where Mom can enjoy a full English breakfast while cruising along the Vaal’s most scenic stretches. It’s the perfect way to slow down\, soak in the views and treat her to something a little different. \nPrefer to celebrate on land? Join us for our elegant 4-course Mother’s Day Luncheon Buffet\, complete with a welcome drink\, a carefully curated menu and a warm\, relaxed riverside atmosphere. From hearty mains to indulgent desserts\, it’s a feast designed to spoil. \nWhether you choose the river or the terrace\, this is all about celebrating Mom in style. \n💐 Book early to secure your spot – this is one of our most popular days of the year.
URL:https://stonehaven.co.za/event/mothers-day-on-the-vaal/
LOCATION:Stonehaven on Vaal\, Rosebush Lane\, Zuurfontein\, Vanderbijlpark\, Gauteng\, 1911\, South Africa
ORGANIZER;CN="Stonehaven on Vaal":MAILTO:info@stonehaven.co.za
END:VEVENT
END:VCALENDAR