BEGIN:VCALENDAR
VERSION:2.0
PRODID:-//Stonehaven on Vaal - ECPv6.15.20//NONSGML v1.0//EN
CALSCALE:GREGORIAN
METHOD:PUBLISH
X-WR-CALNAME:Stonehaven on Vaal
X-ORIGINAL-URL:https://stonehaven.co.za
X-WR-CALDESC:Events for Stonehaven on Vaal
REFRESH-INTERVAL;VALUE=DURATION:PT1H
X-Robots-Tag:noindex
X-PUBLISHED-TTL:PT1H
BEGIN:VTIMEZONE
TZID:UTC
BEGIN:STANDARD
TZOFFSETFROM:+0000
TZOFFSETTO:+0000
TZNAME:UTC
DTSTART:20230101T000000
END:STANDARD
END:VTIMEZONE
BEGIN:VEVENT
DTSTART;TZID=UTC:20241222T180000
DTEND;TZID=UTC:20241222T210000
DTSTAMP:20260421T210915
CREATED:20241220T095149Z
LAST-MODIFIED:20241220T095541Z
UID:342-1734890400-1734901200@stonehaven.co.za
SUMMARY:Rotary Carols By Candlelight
DESCRIPTION:Join us on the 22nd of Dec 2024 for Carols by Candlelight• Father Christmas arriving by ski boat and handing out free sweeties• Opportunity to have your photo taken with Father Christmas on a Boat• 6pm Carols by Candlelight begins with cheerful music played from the Nativity Scene on the stage• 7pm Carols by Candlelight – everyone led in song by professional singers• Fun complimentary activities for the children – making decorations for your Christmas tree\, slip and slide\, jumping castle\, trampoline\, lawn games and table tennis• NO ENTRANCE charge\, but optional donations to Rotary and optional purchasesContact us for more details016 982 2951 / 2060 804 1495 (wa)info@stonehaven.co.za
URL:https://stonehaven.co.za/event/rotary-carols-by-candlelight/
ORGANIZER;CN="Stonehaven on Vaal":MAILTO:info@stonehaven.co.za
END:VEVENT
BEGIN:VEVENT
DTSTART;TZID=UTC:20241130T180000
DTEND;TZID=UTC:20241130T200000
DTSTAMP:20260421T210915
CREATED:20241119T122032Z
LAST-MODIFIED:20241119T122032Z
UID:101-1732989600-1732996800@stonehaven.co.za
SUMMARY:Lighting up the Vaal
DESCRIPTION:The Official Lighting up of the Vaal.  At exactly 7pm all the Christmas lights will be turned on at numerous residences\, residential estates\, venues\, boating and other Vaal community places.  By boat or land enjoy this spectacle of family entertainment and community spirit
URL:https://stonehaven.co.za/event/lighting-up-the-vaal/
LOCATION:The Vaal\, South Africa
END:VEVENT
END:VCALENDAR