BEGIN:VCALENDAR
VERSION:2.0
PRODID:-//Stonehaven on Vaal - ECPv6.15.20//NONSGML v1.0//EN
CALSCALE:GREGORIAN
METHOD:PUBLISH
X-WR-CALNAME:Stonehaven on Vaal
X-ORIGINAL-URL:https://stonehaven.co.za
X-WR-CALDESC:Events for Stonehaven on Vaal
REFRESH-INTERVAL;VALUE=DURATION:PT1H
X-Robots-Tag:noindex
X-PUBLISHED-TTL:PT1H
BEGIN:VTIMEZONE
TZID:Africa/Johannesburg
BEGIN:STANDARD
TZOFFSETFROM:+0200
TZOFFSETTO:+0200
TZNAME:SAST
DTSTART:20250101T000000
END:STANDARD
END:VTIMEZONE
BEGIN:VEVENT
DTSTART;TZID=Africa/Johannesburg:20260213T160000
DTEND;TZID=Africa/Johannesburg:20260215T170000
DTSTAMP:20260421T230400
CREATED:20260120T142221Z
LAST-MODIFIED:20260120T144610Z
UID:1142-1770998400-1771174800@stonehaven.co.za
SUMMARY:Valentine's Day 2026 All Weekend
DESCRIPTION:Celebrate love in unforgettable style at Stonehaven on Vaal’s Valentine’s Weekend 2026\, a three-day romantic experience on the banks of the Vaal River. From Friday 13 to Sunday 15 February\, couples are invited to enjoy luxury river cruises\, candlelit dining\, sunset views and indulgent Valentine’s menus in one of Gauteng’s most romantic destinations. \nStart your weekend with the Luxury Valentine’s Sunset Dinner Cruise on Friday evening\, featuring a four-course cruising buffet and breathtaking river views as the sun sets. It’s the perfect setting for romance\, proposals and special celebrations. \nOR \nOn Saturday\, enjoy a Valentine’s Day on the River with a choice of a luxury cruising breakfast\, romantic à la carte dining\, or a four-course Valentine’s buffet served at the Boat House\, River Terrace or along the riverbanks. Add an optional 45-minute River Romance Cruise\, available every hour on the hour\, for an extra touch of magic. \nOR \nSunday offers a soft and romantic day with a Cruising Breakfast Buffet\, Cruising Luncheon Buffet\, or a relaxed Valentine’s à la carte menu on land – ideal for couples who prefer a gentler\, intimate celebration. \nWhether you choose to dine on the water or on land\, Valentine’s Weekend at Stonehaven on Vaal combines luxury\, romance and scenic beauty. Expect elegant décor\, candlelit tables\, river sunsets and an atmosphere designed to create unforgettable memories. \nPerfect for anniversaries\, proposals or simply spoiling someone special\, this is Valentine’s Day done the Vaal River way.
URL:https://stonehaven.co.za/event/valentines-day-2026-all-weekend/
LOCATION:Stonehaven on Vaal\, Rosebush Lane\, Zuurfontein\, Vanderbijlpark\, Gauteng\, 1911\, South Africa
END:VEVENT
END:VCALENDAR